BEGIN:VCALENDAR
VERSION:2.0
PRODID:-//Anglican Schools of Aotearoa New Zealand &amp; Polynesia - ECPv5.3.1.1//NONSGML v1.0//EN
CALSCALE:GREGORIAN
METHOD:PUBLISH
X-WR-CALNAME:Anglican Schools of Aotearoa New Zealand &amp; Polynesia
X-ORIGINAL-URL:https://anglicanschools.nz
X-WR-CALDESC:Events for Anglican Schools of Aotearoa New Zealand &amp; Polynesia
BEGIN:VTIMEZONE
TZID:Pacific/Auckland
BEGIN:STANDARD
TZOFFSETFROM:+1300
TZOFFSETTO:+1200
TZNAME:NZST
DTSTART:20210403T140000
END:STANDARD
BEGIN:DAYLIGHT
TZOFFSETFROM:+1200
TZOFFSETTO:+1300
TZNAME:NZDT
DTSTART:20210925T140000
END:DAYLIGHT
END:VTIMEZONE
BEGIN:VEVENT
DTSTART;TZID=Pacific/Auckland:20210131T080000
DTEND;TZID=Pacific/Auckland:20210131T080000
DTSTAMP:20210119T102522
CREATED:20210118T011741Z
LAST-MODIFIED:20210118T011741Z
UID:2079-1612080000-1612080000@anglicanschools.nz
SUMMARY:Scientific and Spiritual Lessons in a time of Covid-19
DESCRIPTION:Francis Collins is famous for heading-up the team who finally plotted the human genome: The Human Genome Project. He is also a convert to Christianity\, and has written about his beliefs and experiences in a number of books including\, “The Language of God.” He is offering an online lecture which we are invited to be a part of through ISCAST. It’s an early start for us: 6am on Sunday Jan 31st. Registrations and information here.
URL:https://anglicanschools.nz/event/scientific-and-spiritual-lessons-in-a-time-of-covid-19/
ATTACH;FMTTYPE=image/jpeg:https://anglicanschools.nz/wp-content/uploads/2021/01/francis-collins.jpg
END:VEVENT
BEGIN:VEVENT
DTSTART;TZID=Pacific/Auckland:20210204T080000
DTEND;TZID=Pacific/Auckland:20210204T080000
DTSTAMP:20210119T102522
CREATED:20210118T011013Z
LAST-MODIFIED:20210118T011013Z
UID:2076-1612425600-1612425600@anglicanschools.nz
SUMMARY:International Society for Science and Religion: Boyle Lecture
DESCRIPTION:ISSR is pleased to announce that the 2021 Boyle Lecture will be given by Professor Tom McLeish\, Professor of Natural Philosophy at the University of York\, on the subject of: “The Rediscovery of Contemplation Through Science”. The response this year will be given by The Rt Revd & Rt Hon The Lord Rowan Williams of Oystermouth. \nSince the lecture will be online\, we have the rare opportunity of watching it from New Zealand. We just have to get up early! For us\, it will begin 7am Feb 4th. Just click on: https://www.youtube.com/channel/UCL3sh49hXBejQ6js7_1TUfQ.
URL:https://anglicanschools.nz/event/international-society-for-science-and-religion-boyle-lecture/
ATTACH;FMTTYPE=image/jpeg:https://anglicanschools.nz/wp-content/uploads/2021/01/issr.jpg
END:VEVENT
END:VCALENDAR